BEGIN:VCALENDAR
VERSION:2.0
PRODID:-//foss.events//foss.events//
BEGIN:VEVENT
SUMMARY:Spätzle Coding Night #2
DTSTART;VALUE=DATE:20260424
DTEND;VALUE=DATE:20260426
DTSTAMP:20260420T021035
UID:event_1776418445@foss.events
SEQUENCE:0
DESCRIPTION:Du willst dich mit anderen Nerds und Hacker*innen vernetzen\, 
 spannende Projekte kennenlernen oder einfach in entspannter Atmosphäre de
 ine eigenen Ideen umsetzen? Egal ob Anfänger*in oder erfahrene*r Hacker*i
 n – wir freuen uns auf dich!\n\nWas dich erwartet:\n\n- Austausch & Vern
 etzung mit anderen Hacker*innen und solchen\, die es werden wollen\n- Einb
 licke in spannende Open-Source-Projekte\n- Mitstreiter*innen für deine ei
 genen Ideen finden oder bei bestehenden Projekten einsteigen\n- Gemeinsam 
 coden\, tüfteln und abhängen\n\n~ Programm ~\n\nFreitag\n\n18:30 Ankomme
 n & Spätzle essen (vegan)\n19:00 Projektvorstellungen (Kurzvorträge & Di
 skussion)\n- Verwaltungstracker\n- Modal Collective\n- Bonfire\n- Digital 
 Security Map\n21:30 Abhängen\n23:59 Ende\n\n\nSamstag\n\n10:30 Ankommen &
  Kaffee trinken\n11:30 Begrüßungsrunde & evtl. Aufteilung in Teams\n12:0
 0 Freies Coden / Abhängen\n23:59 Ende\n\nRead everything about Spätzle C
 oding Night #2 in a nutshell on // foss.events: https://foss.events/2026/0
 4-24-spatzle-coding-night-2.html\n\nOfficial Homepage: https://eintopf.inf
 o/event/5bb974dc-b2ec-4dfc-987a-cafdfdef6879\n\n
LOCATION:Prisma\, Bad Cannstatt\, Stuttgart\, Germany
URL:https://foss.events/2026/04-24-spatzle-coding-night-2.html
END:VEVENT
END:VCALENDAR
